BEGIN:VCALENDAR
VERSION:2.0
PRODID:-//Squarespace Inc/Squarespace 6//v6//EN
BEGIN:VEVENT
UID:5a54095341920223aaff1631@squarespace.com
DTSTAMP:20180109T001529Z
DTSTART:20180222T140000Z
DTEND:20180227T230000Z
SUMMARY:O-Week
END:VEVENT
END:VCALENDAR
