BEGIN:VCALENDAR
VERSION:2.0
PRODID:-//Squarespace Inc/Squarespace 6//v6//EN
BEGIN:VEVENT
UID:5aa360e68165f533f6f5405d@squarespace.com
DTSTAMP:20180310T043757Z
DTSTART:20180405T040000Z
DTEND:20180408T050000Z
SUMMARY:BRISMUN
END:VEVENT
END:VCALENDAR
